BEGIN:VCALENDAR
VERSION:2.0
PRODID:-//Baby Village - ECPv4.9.3.2//NONSGML v1.0//EN
CALSCALE:GREGORIAN
METHOD:PUBLISH
X-WR-CALNAME:Baby Village
X-ORIGINAL-URL:https://www.baby-village.com.ua
X-WR-CALDESC:Events for Baby Village
BEGIN:VEVENT
DTSTART;TZID=UTC+0:20190806T080000
DTEND;TZID=UTC+0:20190806T170000
DTSTAMP:20260420T095704
CREATED:20190406T035846Z
LAST-MODIFIED:20190406T035846Z
UID:555-1565078400-1565110800@www.baby-village.com.ua
SUMMARY:Children's Club
DESCRIPTION:Our programs include youth to elder community outreach and accountability through family service requirements. Our center hosts employment opportunities for at risk youth and offers cohesive support to families through partnerships with The Youth Employment institute and Morrison Family Services. \nClearly Children’s Club is committed to children and families on many levels and two of our strongest themes are fitness and nutrition. Whenever possible\, Children’s Club connects with other nonprofit agencies to provide athletic and extra curricular scholarships as well as extended care to facilitate participation. With the help of dedicated volunteers and staff\, nutrition\, food preparation and preservation\, and menu planning classes also contribute to educating our community about wholesome eating habits. \nAt Children’s club\, we look forward to continuing a long tradition of evolving to meet the challenges that face the families of our communities and creating partnerships that will enhance our ability to do so. \n
URL:https://www.baby-village.com.ua/event/childrens-club/
LOCATION:USA
ATTACH;FMTTYPE=image/jpeg:https://www.baby-village.com.ua/wp-content/uploads/2019/03/event-detail.jpg
ORGANIZER;CN="Organizer":MAILTO:info@bebio.com
END:VEVENT
END:VCALENDAR